BEGIN:VCALENDAR
VERSION:2.0
PRODID:-//Manresa Jesuit Spiritual Renew - ECPv6.15.20//NONSGML v1.0//EN
CALSCALE:GREGORIAN
METHOD:PUBLISH
X-WR-CALNAME:Manresa Jesuit Spiritual Renew
X-ORIGINAL-URL:https://manresa-canada.ca
X-WR-CALDESC:Events for Manresa Jesuit Spiritual Renew
REFRESH-INTERVAL;VALUE=DURATION:PT1H
X-Robots-Tag:noindex
X-PUBLISHED-TTL:PT1H
BEGIN:VTIMEZONE
TZID:America/Toronto
BEGIN:DAYLIGHT
TZOFFSETFROM:-0500
TZOFFSETTO:-0400
TZNAME:EDT
DTSTART:20250309T070000
END:DAYLIGHT
BEGIN:STANDARD
TZOFFSETFROM:-0400
TZOFFSETTO:-0500
TZNAME:EST
DTSTART:20251102T060000
END:STANDARD
BEGIN:DAYLIGHT
TZOFFSETFROM:-0500
TZOFFSETTO:-0400
TZNAME:EDT
DTSTART:20260308T070000
END:DAYLIGHT
BEGIN:STANDARD
TZOFFSETFROM:-0400
TZOFFSETTO:-0500
TZNAME:EST
DTSTART:20261101T060000
END:STANDARD
BEGIN:DAYLIGHT
TZOFFSETFROM:-0500
TZOFFSETTO:-0400
TZNAME:EDT
DTSTART:20270314T070000
END:DAYLIGHT
BEGIN:STANDARD
TZOFFSETFROM:-0400
TZOFFSETTO:-0500
TZNAME:EST
DTSTART:20271107T060000
END:STANDARD
END:VTIMEZONE
BEGIN:VEVENT
DTSTART;TZID=America/Toronto:20260424T183000
DTEND;TZID=America/Toronto:20260426T130000
DTSTAMP:20260425T114006
CREATED:20251009T192131Z
LAST-MODIFIED:20251009T192133Z
UID:3821-1777055400-1777208400@manresa-canada.ca
SUMMARY:A JESUIT GUIDE TO THE STARS
DESCRIPTION:MEN & WOMEN IGNATIAN –   \n\n\n\n “A Jesuit Guide to the Stars” explores the deep connection between Ignatian spirituality and the cosmos. Br. Guy Consolmagno\, SJ\, Vatican astronomer and storyteller of the heavens\, will lead a journey through the night sky and a contemplation of scientific truth in the service of faith.  \n\n\n\nFacilitated by Brother Guy Consolmagno\, SJ  \n\n\n\n\n\nManresa-Br.GuyConsolmagno-2025Download
URL:https://manresa-canada.ca/event/a-jesuit-guide-to-the-stars/
END:VEVENT
BEGIN:VEVENT
DTSTART;TZID=America/Toronto:20260427T090000
DTEND;TZID=America/Toronto:20260427T153000
DTSTAMP:20260425T114006
CREATED:20260402T192839Z
LAST-MODIFIED:20260402T192959Z
UID:4056-1777280400-1777303800@manresa-canada.ca
SUMMARY:Glimpsing the Risen Christ.
DESCRIPTION:DAY OF REFLECTION FOR MEN & WOMEN:   We proclaim that Christ is indeed risen from the dead – not merely as a spirit\, but in a body that his disciples could see and touch.  He shares a meal\, invites Thomas to place his finger in the wounds of his hands and side\, and makes his presence known in tangible ways.  However\, some never see him.  Most do not immediately recognize him when they do see him: Mary   Magdalene mistakes him for a gardener\, while the beloved disciple recognizes the Lord at once.    \n\n\n\nOn this Day of Recollection\, we will reflect on some of the encounters with the risen Christ found in Scripture\, and explore some ways we\, too\, can be open to  personally meeting the risen Christ today. \n\n\n\n Facilitated by:   Fr. Chris Llanos\, SJ  \n\n\n\nDOR-Apr.27\,2026(Llanos)Download
URL:https://manresa-canada.ca/event/glimpsing-the-risen-christ/
END:VEVENT
BEGIN:VEVENT
DTSTART;TZID=America/Toronto:20260501T183000
DTEND;TZID=America/Toronto:20260503T130000
DTSTAMP:20260425T114006
CREATED:20250911T004523Z
LAST-MODIFIED:20251202T220113Z
UID:3782-1777660200-1777813200@manresa-canada.ca
SUMMARY:Spirituality of the 12 Step WOMEN (AA) - New Retreat!
DESCRIPTION:WOMEN 12 STEP – Come and join us for a journey that will take you through the 12 Steps of recovery (AA) allowing you to strengthen a deeper spirituality within yourself. This retreat tends to be ecumenical with many non-Catholics in attendance. This is truly a spiritual approach for everyone. \n\n\n\nFacilitated by Kathy Dempsey and our Retreat Team.
URL:https://manresa-canada.ca/event/spirituality-of-the-12-step-women-aa-2/
CATEGORIES:12 Step for WOMEN,12 Step Program
END:VEVENT
BEGIN:VEVENT
DTSTART;TZID=America/Toronto:20260508T183000
DTEND;TZID=America/Toronto:20260510T133000
DTSTAMP:20260425T114006
CREATED:20250911T005115Z
LAST-MODIFIED:20251203T174007Z
UID:3784-1778265000-1778419800@manresa-canada.ca
SUMMARY:Spirituality of the 12 Step MEN (AA)
DESCRIPTION:MEN 12 STEP – Come and join us for a journey that will take you through the 12 Steps of recovery (AA) allowing you to strengthen a deeper spirituality within yourself. This retreat tends to be ecumenical with many non-Catholics in attendance. This is truly a spiritual approach for everyone. \n\n\n\nFacilitated by Nada Conic and our Retreat Team.
URL:https://manresa-canada.ca/event/spirituality-of-the-12-step-men-aa-3/
CATEGORIES:12 Step for Men,12 Step Program
END:VEVENT
BEGIN:VEVENT
DTSTART;TZID=America/Toronto:20260509T093000
DTEND;TZID=America/Toronto:20260509T160000
DTSTAMP:20260425T114006
CREATED:20260316T205304Z
LAST-MODIFIED:20260316T205308Z
UID:4035-1778319000-1778342400@manresa-canada.ca
SUMMARY:What is a Charism?  How do we discern these spiritual gifts and where to use them? 
DESCRIPTION:DAY OF REFLECTION FOR WOMEN:    Click on the above heading for more information and registration.  \n\n\n\nCharisms are special gifts of the Holy Spirit which are bestowed on individuals for the good of others\, the needs of the world\, and in particular for the building up of the Church.” (Catechism of the Catholic Church\, 799-800)   \n\n\n\nJoin us for this interactive and reflective workshop where we will learn about the Charisms\, how to know which ones we are called and gifted to use in our current season of life\, and what to say yes and no to as a result so we can make our contribution to build God’s Kingdom. We will also explore how our Charisms help us to live out our mission more confidently and competently\, and how to recognize who we need to lean on that has complimentary gifts to ours to foster greater impact and collaboration. \n\n\n\nFor more information and to register\, please contact Veronica at boutiquecoachingconnections@gmail.com. \n\n\n\nFacilitated by:  Veronica Lujbicic \n\n\n\n\n\nDOR-Veronica-May9\,2026Download
URL:https://manresa-canada.ca/event/what-is-a-charism-how-do-we-discern-these-spiritual-gifts-and-where-to-use-them/
CATEGORIES:Reflection,Women
END:VEVENT
BEGIN:VEVENT
DTSTART;TZID=America/Toronto:20260522T183000
DTEND;TZID=America/Toronto:20260524T130000
DTSTAMP:20260425T114006
CREATED:20251203T174258Z
LAST-MODIFIED:20251219T155332Z
UID:3908-1779474600-1779627600@manresa-canada.ca
SUMMARY:From Fear to Freedom
DESCRIPTION:WOMEN IGNATIAN –   When the Holy Spirit came upon Jesus’ disciples\, it freed them from fear and filled them with a bold\, loving purpose.  This retreat is an invitation to enter that same movement from fear to freedom.  Through silence and prayer\, we will contemplate and seek the Holy Spirit’s transforming gifts. \n\n\n\nFacilitated by Fr. Chris Llanos\, SJ \n\n\n\n\n\nFlyer-May22-24\,2026(Llanos)Download
URL:https://manresa-canada.ca/event/women-ignatian-silent-retreat/
CATEGORIES:Silent Retreat,Women Ignatian
END:VEVENT
BEGIN:VEVENT
DTSTART;TZID=America/Toronto:20260525T090000
DTEND;TZID=America/Toronto:20260525T153000
DTSTAMP:20260425T114006
CREATED:20260417T173607Z
LAST-MODIFIED:20260417T173610Z
UID:4068-1779699600-1779723000@manresa-canada.ca
SUMMARY:Receive the Holy Spirit. 
DESCRIPTION:DAY OF REFLECTION FOR MEN & WOMEN:    The experience of Pentecost moved the disciples from fearful hiding to bold proclamation of the Good News\, generous sharing with others in community and a   radically new understanding of who God is.  In his book “Reaching Out\,” Henri Nouwen offers insight into this threefold movement of the Holy Spirit: moving us from loneliness to solitude\, from hostility to hospitality and from illusion to prayer. “To live our short lives in the spirit of Jesus Christ\, means to reach out from the midst of our pains and to let them be turned into joy by the love of the One who came within our reach.”  \n\n\n\nOn this 30th anniversary of Henri Nouwen’s death\, Mary Bastedo\, who lived with Henri during his ten years as pastor of L’Arche Daybreak in Richmond Hill\, will help us explore Henri’s wisdom and its relevance for today. \n\n\n\nFacilitated by:   Mary Bastedo \n\n\n\n\n\nDOR-May25\,2026(Bastedo)Download
URL:https://manresa-canada.ca/event/receive-the-holy-spirit/
END:VEVENT
BEGIN:VEVENT
DTSTART;TZID=America/Toronto:20260529T183000
DTEND;TZID=America/Toronto:20260531T130000
DTSTAMP:20260425T114006
CREATED:20251105T180845Z
LAST-MODIFIED:20251202T220224Z
UID:3844-1780079400-1780232400@manresa-canada.ca
SUMMARY:Men & Women Ignatian Silent Retreat for Young Professionals (ages 19 - 39)
DESCRIPTION:MEN & WOMEN IGNATIAN –  More information coming soon! \n\n\n\nFacilitated by  Fr. Edmund Lo\, SJ
URL:https://manresa-canada.ca/event/men-women-ignatian-silent-retreat-for-young-professionals-ages-19-39/
END:VEVENT
BEGIN:VEVENT
DTSTART;TZID=America/Toronto:20260605T183000
DTEND;TZID=America/Toronto:20260607T130000
DTSTAMP:20260425T114006
CREATED:20251105T181138Z
LAST-MODIFIED:20260129T151733Z
UID:3846-1780684200-1780837200@manresa-canada.ca
SUMMARY:Faith and Hope:  Radical Trust\, the Path to God. 
DESCRIPTION:MEN & WOMEN IGNATIAN –  Faith is often confused with doctrine or theology but there is little or no actual connection. Faith is trust in the loving kindness and care of God even when the going gets rough. Hope is not optimism; hope is the  reward of faith. \n\n\n\nWant to make this an 8-day retreat experience with Fr. Scott? You can!  For the suggested offering of $ 990.00 pp.\, you may join both of his retreats – this one and his 5-day retreat – June 8 – 12.  Please contact the office for more details. \n\n\n\nFacilitated by  Fr. Scott Lewis\, SJ \n\n\n\n\n\nFlyer-June5-7\,2026(ScottLewis)Download
URL:https://manresa-canada.ca/event/men-women-ignatian-silent-retreat/
END:VEVENT
BEGIN:VEVENT
DTSTART;TZID=America/Toronto:20260608T160000
DTEND;TZID=America/Toronto:20260612T130000
DTSTAMP:20260425T114006
CREATED:20251105T181404Z
LAST-MODIFIED:20260129T152215Z
UID:3848-1780934400-1781269200@manresa-canada.ca
SUMMARY:"Illuminating the Darkness." Navigating Dark and Tumultuous Times with the Tools of the Spirit
DESCRIPTION:MEN & WOMEN IGNATIAN: These are trying times for many people. Surrounded by darkness\, negativity\, uncertainty\,  hatred and violence\, many surrender to despair and hopelessness. But the people of God – the Israelites and Christians – have faced all of these challenges many times in the past. We will revisit their stories in Scripture and discover the spiritual tools that they used in their quest for renewal and hope. \n\n\n\nThis 5-day retreat\, begins on Monday afternoon with dinner and ends with lunch on Friday. \n\n\n\nFr. Scott Lewis\, SJ will lead us each day with conferences\, Eucharistic Celebration\, and  an  opportunity for individual spiritual direction with our retreat team. \n\n\n\nWant to make this an 8-day retreat experience with Fr. Scott? You can!  For the suggested offering of $ 990.00 pp.\, you may join both of his retreats – this one and his Ignatian weekend retreat  – June 5 – 7.  Please contact the office for more details.  \n\n\n\nFacilitated by Fr. Scott Lewis\, SJ \n\n\n\n\n\nFlyer-ScottLewis-5-day-June8-12\,2026Download
URL:https://manresa-canada.ca/event/men-women-5-day-silent-retreat/
END:VEVENT
BEGIN:VEVENT
DTSTART;TZID=America/Toronto:20260612T183000
DTEND;TZID=America/Toronto:20260614T130000
DTSTAMP:20260425T114006
CREATED:20250911T005338Z
LAST-MODIFIED:20251202T220411Z
UID:3786-1781289000-1781442000@manresa-canada.ca
SUMMARY:Spirituality of the 12 Step WOMEN (AA)
DESCRIPTION:WOMEN 12 STEP – Come and join us for a journey that will take you through the 12 Steps of recovery (AA) allowing you to strengthen a deeper spirituality within yourself. This retreat tends to be ecumenical with many non-Catholics in attendance. This is truly a spiritual approach for everyone. \n\n\n\nFacilitated by ‘to be confirmed” and our Retreat Team.
URL:https://manresa-canada.ca/event/spirituality-of-the-12-step-women-aa-3/
CATEGORIES:12 Step for WOMEN,12 Step Program
END:VEVENT
BEGIN:VEVENT
DTSTART;TZID=America/Toronto:20260711T093000
DTEND;TZID=America/Toronto:20260711T160000
DTSTAMP:20260425T114006
CREATED:20260316T205647Z
LAST-MODIFIED:20260316T205649Z
UID:4038-1783762200-1783785600@manresa-canada.ca
SUMMARY:How to Build Resilience around Habit Change:  From Resistance to Perseverance
DESCRIPTION:DAY OF REFLECTION FOR WOMEN:    Click on the above heading for more information and registration.  \n\n\n\n“Be renewed in the spirit of your minds\, and put on the new man\, created after the likeness of God in true righteousness and holiness.” (Ephesians 4: 23-24)   \n\n\n\nLasting change comes through spiritual renewal and the transformation of one’s mind\, not just willpower. Abandoning old behaviours to create new habits requires spiritual strength and emotional resilience. Join us for this interactive workshop and reflection day where we will look at how our awareness of undesired habits\, beliefs that keep us stuck\, and discontentment of these behaviours and results\, can assist us in building the emotional resistance and conviction needed to persevere in creating habits and outcomes we want. We will share insightful tools and practical tips. \n\n\n\nCome away for a while and be refreshed by walking the grounds\, having a nice meal together\, praying\, and fellowshipping with other women of faith. \n\n\n\nFor more information and to register\, please contact Veronica at boutiquecoachingconnections@gmail.com. \n\n\n\nFacilitated by:  Veronica Lujbicic \n\n\n\n\n\nDOR-Veronica-July11\,2026Download
URL:https://manresa-canada.ca/event/how-to-build-resilience-around-habit-change-from-resistance-to-perseverance/
END:VEVENT
BEGIN:VEVENT
DTSTART;TZID=America/Toronto:20260722T080000
DTEND;TZID=America/Toronto:20260730T170000
DTSTAMP:20260425T114006
CREATED:20260311T140321Z
LAST-MODIFIED:20260311T140323Z
UID:4031-1784707200-1785430800@manresa-canada.ca
SUMMARY:God meets us in the Mist.   A retreat for times of uncertainty and transition.
DESCRIPTION:MEN & WOMEN 8 – DAY SILENT RETREAT: At each stage of life\, and in altered circumstances\, or in times of loss\, we experience discomforting change. Such times can make us anxious and fearful. We can lose a sense of identity and experience challenges to faith and trust. We sometimes find ourselves in the “mists of life” where even God feels absent and we don’t know where to turn. Yet it can be exactly in the mist that God waits to meet us. Writer\, Gillian Deacon asks\, “what are we missing?” Could it be that the “rush toward certainty is keeping us from something? Something better?” Perhaps these very times are hidden gifts\, calling us to ‘the more’\, to deeper intimacy with God\, to greater meaning\, to freedom of spirit\, joy and peace. \n\n\n\nThrough prayer\, presentations\, Sacrament\, spiritual accompaniment and sharing and guided by the riches of Ignatian Spirituality\, we will enter gently into contemplative reflection on our questions of heart and spirit. Where is God in the ‘here and now’? What are the graces of today? How might I discern God’s present and unfolding call to me? \n\n\n\nThe retreat is a warm invitation to be with God in quietness and with one another as we open ourselves to the fullness of life which Christ promises always and for which we were created.  \n\n\n\nThis 8-day retreat\, begins on Wednesday afternoon with dinner and ends with lunch on Thursday. \n\n\n\nFacilitated by Sr. Mary Rowell\, csj \n\n\n\n\n\n8-dayRetreat-July22-30\,2026(Sr.Mary)Download
URL:https://manresa-canada.ca/event/god-meets-us-in-the-mist-a-retreat-for-times-of-uncertainty-and-transition/
CATEGORIES:Silent Retreat
END:VEVENT
BEGIN:VEVENT
DTSTART;TZID=America/Toronto:20260804T160000
DTEND;TZID=America/Toronto:20260811T133000
DTSTAMP:20260425T114006
CREATED:20260218T212052Z
LAST-MODIFIED:20260219T200427Z
UID:3993-1785859200-1786455000@manresa-canada.ca
SUMMARY:SILENT INDIVIDUALLY DIRECTED 8-DAY RETREAT
DESCRIPTION:MEN & WOMEN RETREAT:   An individually directed retreat provides participants with a sacred space for silence\, prayer and spiritual renewal all in a peaceful environment for eight days.  \n\n\n\nYou will benefit from all the usual Manresa amenities: silence\, a private room\, all meals\, daily celebration of the Eucharist\, and access to the grounds at their summer best. \n\n\n\nA directed retreat offers you a daily one-on-one meeting with your experienced spiritual director.Our directors are trained in the Ignatian tradition and include both religious and lay persons.  They serve as a guide\, helping you and God to engage with each other. \n\n\n\nWe also offer this retreat to those that do not desire spiritual direction\, just quiet time away with God in prayer.  The suggested offering:  $ 980.00 pp \n\n\n\nBoth retreats include seven night’s accommodation with meals. This retreat begins on Tuesday with dinner served at 5:30 pm and ends with lunch the following Tuesday.     \n\n\n\n\n\nFlyer-August4-11\,2026(8-day)Download
URL:https://manresa-canada.ca/event/silent-individually-directed-8-day-retreat/
CATEGORIES:Men & Women,Silent Retreat
END:VEVENT
END:VCALENDAR